BEGIN:VCALENDAR
VERSION:2.0
PRODID:icalendar-ruby
CALSCALE:GREGORIAN
METHOD:REQUEST
BEGIN:VEVENT
DTSTAMP:20210423T140300Z
UID:09d156ac-eb4c-4d57-9b8c-dbe0c0097c86
DTSTART:20210310T130000Z
DTEND:20210310T143000Z
DESCRIPTION:\n\nJoin us in exploring the myriad of possibilities that 
 analysts predict AI-powered Automation can open up to your organizatio
 n in 2021 and discover how leading companies are transforming\n\nToday
 \, organizations face a contradictory balance: innovate while keeping 
 the lights\non\; reduce costs without compromising security or custome
 r engagement. Smarter\nbusinesses dial up and down to change how work 
 gets done while balancing competing\npriorities. These businesses look
  to automation and AI to empower their employees\nto focus on higher-v
 alue work. Automation improves experiences\, productivity\, and\nopera
 tional effciency across business and IT. It underpins and spans workﬂo
 ws across\norganizational boundaries to improve outcomes. And it allow
 s you to automate more\ntypes of work faster and at lower cost.\n\nAut
 omation transforms work and simplifes how businesses operate.\nAI acce
 lerates innovation by making every interaction\, experience\,\nand pro
 cess more intelligent. Whether you want to automate complex IT operati
 ons\nthat span the entire organization\, or automate repetitive busine
 ss tasks\, analysts agree\nthat AI-powered Automation can help reduce 
 manual processes by 80%.\n\nWe will discuss Automation predications an
 d much more at the C3 - kick Off event -The Art of Automation\n10th of
  March \, 03:00PM ( 15:00 Israel time).\n\nCIO\, CTO\, SRT\, Biz Trans
 formation Offcer\, Chief Innovation Offcer\, Head of Business\nProcess
  - we look forward to meet you all.\n\n\n\n\nStay updated on latest ch
 anges at the conference website: https://art-of-automation.events.co.i
 l/home
LAST-MODIFIED:20210310T234210
LOCATION:Online
ORGANIZER;CN=People & Computers:mailto:events@thepeople.co.il
SUMMARY:Art of Automation 
URL:https://art-of-automation.events.co.il/home
BEGIN:VALARM
ACTION:DISPLAY
TRIGGER:-P1D
DESCRIPTION:REMINDER
SUMMARY:Art of Automation  Tomorrow At 15:00!
END:VALARM
END:VEVENT
END:VCALENDAR
