BEGIN:VCALENDAR
VERSION:2.0
PRODID:icalendar-ruby
CALSCALE:GREGORIAN
METHOD:REQUEST
BEGIN:VEVENT
DTSTAMP:20210423T103038Z
UID:16b4e1f5-3b0f-4d2b-bcc4-a8a703ddb7b5
DTSTART:20210614T060000Z
DTEND:20210614T100000Z
DESCRIPTION:\n\nהכנס המרכזי להתחדשות עירונית\, ערים דיגיטליות\, IT בשל
 טון המקומי\n\nהשלטון המקומי שיחק תפקיד מרכזי בשנת משבר הקורונה\, בזכות
  הטמעת תהליכים של טרנספורמציה דיגיטלית\, שאיפשרו להעניק לתושבים את מרב
 ית השירותים און ליין.\n\nמגמה זו צפויה להימשך גם בהמשך שנה זו ובשנה הב
 אה.\n\nתהליכי חדשנות\, יהוו כלי מרכזי שיסייע להתאוששות הכלכלית וחזרה ל
 שיגרה בצל הקורונה.\n\nכנס SMART CITIES 2021 של אנשים ומחשבים יפגיש מעל
  במה אחת \, וירטואלית\, את שחקני המפתח בתחום החדשנות ברשויות המקומיות\
 , מקבלי החלטות\, וראש אגפי המיחשוב בשלטון המקומי\, שיסקרו את המגמות\, 
 האתגרים בחדשנות העירונית בתחומים שונים\, בעידן הפוסט קורונה.\n\nגם השנ
 ה הכנס הוא בשיתוף עם פורום המנמ"רים בשלטון המקומי\, ועם מרכז בר אילן ל
 ערים חכמות\n\nבין הנושאים וההרצאות\n תהליכי חדשנות בתחום הקיימות ואיכו
 ת הסביבה\n תהליכי דיגיטציה בתחום החינוך והכשרת דור העתיד\n תכנון תחבור
 ה בסביבה האורבנית החדשה\n הרצאות מקצועיות בתחומים: \,AI \,CRMענן\, אבט
 חה וסייבר\, ERP ועוד\n תחרות להכתרת הסטארט אפים המצטיינים בתחום הערים 
 החכמות\n\n\nאנו ממליצים להתעדכן באתר מידי פעם ולוודא שהמיקום או תאריך 
 האירוע לא שונה: https://smart-city-20-2021.events.co.il/home
LAST-MODIFIED:20210423T030221
LOCATION:אונליין
ORGANIZER;CN=People & Computers:mailto:events@thepeople.co.il
SUMMARY:SMART CITY 2.0 2021
URL:https://smart-city-20-2021.events.co.il/home
BEGIN:VALARM
ACTION:DISPLAY
TRIGGER:-P1D
DESCRIPTION:REMINDER
SUMMARY:SMART CITY 2.0 2021 מחר בשעה 09:00!
END:VALARM
END:VEVENT
END:VCALENDAR
