BEGIN:VCALENDAR
VERSION:2.0
PRODID:icalendar-ruby
CALSCALE:GREGORIAN
METHOD:REQUEST
BEGIN:VEVENT
DTSTAMP:20210422T110948Z
UID:7995cb15-e2c4-4e4e-b1ab-d12d47041cfb
DTSTART:20210512T060000Z
DTEND:20210512T100000Z
DESCRIPTION:\n\nמהפכת הלמידה מרחוק\, האם היא כאן לתמיד?\n\nהקורונה גרמ
 ה לשינוי אבולוציוני. היא שינתה את התפיסה החינוכית\, שלא השתנתה מאז המא
 ה ה-19  ולא רק בישראל.\n\nבמסגרת הכנס נדון בהשפעות הקורונה על מערכת הח
 ינוך והלמידה ההיברידית.\n\n\nהכנס מיועד לעוסקים בהוראה ובהדרכה במגזרים
  השונים: בעיקר בחינוך\, בבריאות וברפואה\, בצבא\, באקדמיה ובשלטון מקומי
 \,\n\nבכנס יתארחו מנהלי בתי ספר\, מורים ואנשי חינוך ממשרד החינוך\, מנה
 לי מחלקות חינוך ברשויות המקומיות\, מרצים ומקבלי החלטות באקדמיה\,\n\nקצ
 יני הדרכה מעיר הבה"דים של צה"ל\, בכירים מחיל החינוך\, רופאים ומנהלי רכ
 ש מהמגזר הרפואי ומוזמנים לכנס כל מי שמקבלים החלטות בתחום ההוראה וההדרכ
 ה.\n\n\nאנו ממליצים להתעדכן באתר מידי פעם ולוודא שהמיקום או תאריך האיר
 וע לא שונה: https://edutech-2-2021.events.co.il/home
LAST-MODIFIED:20210422T030205
LOCATION:אונליין
ORGANIZER;CN=People & Computers:mailto:events@thepeople.co.il
SUMMARY:EDUTECH 2 2021
URL:https://edutech-2-2021.events.co.il/home
BEGIN:VALARM
ACTION:DISPLAY
TRIGGER:-P1D
DESCRIPTION:REMINDER
SUMMARY:EDUTECH 2 2021 מחר בשעה 09:00!
END:VALARM
END:VEVENT
END:VCALENDAR
