BEGIN:VCALENDAR

PRODID:icalendar-ruby
CALSCALE:GREGORIAN
METHOD:REQUEST
BEGIN:VEVENT
DTSTAMP:20210423T103043Z
UID:33ad5a28-d23e-414b-b5aa-6d37ee82df50
DTSTART:20210111T093000Z
DTEND:20210111T110000Z
DESCRIPTION:\n\nפורום WIT  חוזר להמשיך להעניק תכנים מעצימים לקהילת הנש
 ים המובילות בתעשיית ה- IT.\n\nהנכן מוזמנות למפגש וירטואלי שיתקיים ב 11
 .1.21 ב-11:30\,\n\nבנושא סיכום שנת 2020 והדגשים לשנת 2021\,\n\nנשמח לר
 אותכן.\n\n\nאנו ממליצים להתעדכן באתר מידי פעם ולוודא שהמיקום או תאריך 
 האירוע לא שונה: https://wit-3-meeting.events.co.il/home
LAST-MODIFIED:20210228T115051
LOCATION:אונליין
ORGANIZER;CN=People & Computers:mailto:events@thepeople.co.il
SUMMARY:פורום הנשים WIT: סיכום שנת 2020 והדגשים לשנת 2021
URL:https://wit-3-meeting.events.co.il/home
BEGIN:VALARM
ACTION:DISPLAY
TRIGGER:-P1D
DESCRIPTION:REMINDER
SUMMARY:פורום הנשים WIT: סיכום שנת 2020 והדגשים לשנת 2021 מחר בשעה 11:
 30!
END:VALARM
END:VEVENT
END:VCALENDAR
