BEGIN:VCALENDAR
VERSION:2.0
PRODID:icalendar-ruby
CALSCALE:GREGORIAN
METHOD:REQUEST
BEGIN:VEVENT
DTSTAMP:20210911T121553Z
UID:3e164203-3eb5-4467-b2ca-dfe927e8c2ea
DTSTART:20210302T070000Z
DTEND:20210302T100000Z
DESCRIPTION:\n\nהכנס המרכזי לשנת 2021 של מגזרי הייצור.\n\nבכנס יוצגו ה
 חידושים הטכנולוגיים האחרונים\, שירותים המיועדים לתעשייה 4.0 ולמפעל החכ
 ם\, האינטרנט התעשייתי של דברים (IIoT)\, מערכות אוטומציה ורובוטיקה\, בי
 נה מלאכותית וכן - מערכות Cyber ואבטחת מידע המיועדות לרצפת הייצור.\n\nה
 כנס ירכז מומחים ומקבלי החלטות מהתעשייה היצרנית בארץ ובחו"ל בנוסף לספקי
  פתרונות ולמובילי דעה ויאפשר למשתתפי הכנס להתעדכן במגמות טכנולוגיות מש
 מעותיות בעולם\,\n\nוכן במידע על הנושאים המרכזיים המאפשרים להפוך כל מפע
 ל יצרני למפעל חכם.\n\nהכנס יענה לשאלות כדוגמת איך יכולים מנהלים להוביל
  את השינוי הזה בתוך הארגון שלהם מבלי שהדבר ישפיע לרעה על הייצור\, על ש
 ביעות רצון הלקוחות ועל התרבות הארגונית וכן מהם השלבים על המפעל לעבור ב
 תהליך הטמעת תעשייה 4.0 במפעל.\n\nהכנס יסייע למנהלי מפעלים ומנהלי הייצו
 ר ליישם שינוי טכנולוגי בקנה מידה גדול בתהליכי הייצור הקיימים כיום במפע
 ל. הכנס מיועד לסמנכ"לי ומנהלי ייצור\, מנהלי מערכות מידע בתעשייה\, גופי
  ממשלה\, מוסדות אקדמיים ועוד.\n\n\n\n\n\nבנוסף לרישום הכנס\, מי שמעוני
 ין\, ניתן להצטרף לקהילה המקצועיתIsrael Industry 4.0 המופעלת על ידי Sta
 rt-Up Nation Central לחץ כאן\n\n\nאנו ממליצים להתעדכן באתר מידי פעם ול
 וודא שהמיקום או תאריך האירוע לא שונה: https://industry-21.events.co.il
 /home
LAST-MODIFIED:20210713T091625
LOCATION:אונליין
ORGANIZER;CN=People & Computers:mailto:events@thepeople.co.il
SUMMARY:תעשייה חכמה 2021
URL:https://industry-21.events.co.il/home
BEGIN:VALARM
ACTION:DISPLAY
TRIGGER:-P1D
DESCRIPTION:REMINDER
SUMMARY:תעשייה חכמה 2021 מחר בשעה 09:00!
END:VALARM
END:VEVENT
END:VCALENDAR
