BEGIN:VCALENDAR
VERSION:2.0
PRODID:icalendar-ruby
CALSCALE:GREGORIAN
METHOD:REQUEST
BEGIN:VEVENT
DTSTAMP:20210423T140310Z
UID:22d9ca56-c883-4a9d-b35e-602548b7eeea
DTSTART:20210112T080000Z
DTEND:20210112T103000Z
DESCRIPTION:\n\nמנמ"מרים ומנהלי תשתיות מספרים\n\n\n\nאנו ממליצים להתעד
 כן באתר מידי פעם ולוודא שהמיקום או תאריך האירוע לא שונה: https://agile
 -c3-c6.events.co.il/home
LAST-MODIFIED:20210228T105610
LOCATION:אונליין
ORGANIZER;CN=People & Computers:mailto:events@thepeople.co.il
SUMMARY:האם Agile הביא לשביעות רצון בקרב הלקוחות?
URL:https://agile-c3-c6.events.co.il/home
BEGIN:VALARM
ACTION:DISPLAY
TRIGGER:-P1D
DESCRIPTION:REMINDER
SUMMARY:האם Agile הביא לשביעות רצון בקרב הלקוחות? מחר בשעה 10:00!
END:VALARM
END:VEVENT
END:VCALENDAR
