BEGIN:VCALENDAR
VERSION:2.0
PRODID:icalendar-ruby
CALSCALE:GREGORIAN
METHOD:REQUEST
BEGIN:VEVENT
DTSTAMP:20210912T012505Z
UID:07be3726-b8df-4237-83e9-463e0939a6b1
DTSTART:20201224T073000Z
DTEND:20201224T100000Z
DESCRIPTION:\n\nאנו מתכבדים להזמינך למפגש שבו נציג בפניך את החידושים ה
 טכנולוגיים\n\nותוכניות הפיתוח של סביבות Adabas & Natural\n\n\nאנו ממלי
 צים להתעדכן באתר מידי פעם ולוודא שהמיקום או תאריך האירוע לא שונה: http
 s://adabas-natural-innovation-day.events.co.il/home
LAST-MODIFIED:20201224T121419
LOCATION:אונליין
ORGANIZER;CN=People & Computers:mailto:events@thepeople.co.il
SUMMARY:Adabas & Natural Innovation Day
URL:https://adabas-natural-innovation-day.events.co.il/home
BEGIN:VALARM
ACTION:DISPLAY
TRIGGER:-P1D
DESCRIPTION:REMINDER
SUMMARY:Adabas & Natural Innovation Day מחר בשעה 09:30!
END:VALARM
END:VEVENT
END:VCALENDAR
