BEGIN:VCALENDAR

PRODID:icalendar-ruby
CALSCALE:GREGORIAN
METHOD:REQUEST
BEGIN:VEVENT
DTSTAMP:20210911T145228Z
UID:f160f630-281e-4c99-9ea7-9c9f42ce7782
DTSTART:20201221T080000Z
DTEND:20201221T093000Z
DESCRIPTION:\n\nעל פי הראל טכנולוגיות מידע \n\n\n\nאנו ממליצים להתעדכן
  באתר מידי פעם ולוודא שהמיקום או תאריך האירוע לא שונה: https://harel-a
 cademy.events.co.il/home
LAST-MODIFIED:20210103T141309
LOCATION:אונליין
ORGANIZER;CN=People & Computers:mailto:events@thepeople.co.il
SUMMARY:כנס אקדמיה - עולם ה-HPC&AI
URL:https://harel-academy.events.co.il/home
BEGIN:VALARM
ACTION:DISPLAY
TRIGGER:-P1D
DESCRIPTION:REMINDER
SUMMARY:כנס אקדמיה - עולם ה-HPC&AI מחר בשעה 10:00!
END:VALARM
END:VEVENT
END:VCALENDAR
