BEGIN:VCALENDAR
VERSION:2.0
PRODID:icalendar-ruby
CALSCALE:GREGORIAN
METHOD:REQUEST
BEGIN:VEVENT
DTSTAMP:20210911T145237Z
UID:11fb24e8-1c7a-48b5-ae65-4b5d583be37e
DTSTART:20210308T070000Z
DTEND:20210308T100000Z
DESCRIPTION:\n\nכנס הטכנולוגיות קשר ותקשוב\n\nחדשנות ודיגיטל - צריך שנ
 יים לטנגו\n\n\nאנו ממליצים להתעדכן באתר מידי פעם ולוודא שהמיקום או תאר
 יך האירוע לא שונה: https://it-for-idf-4.events.co.il/home
LAST-MODIFIED:20210726T174417
LOCATION:אונליין
ORGANIZER;CN=People & Computers:mailto:events@thepeople.co.il
SUMMARY:IT FOR IDF 4
URL:https://it-for-idf-4.events.co.il/home
BEGIN:VALARM
ACTION:DISPLAY
TRIGGER:-P1D
DESCRIPTION:REMINDER
SUMMARY:IT FOR IDF 4 מחר בשעה 09:00!
END:VALARM
END:VEVENT
END:VCALENDAR
