BEGIN:VCALENDAR
VERSION:2.0
PRODID:icalendar-ruby
CALSCALE:GREGORIAN
METHOD:REQUEST
BEGIN:VEVENT
DTSTAMP:20210912T004007Z
UID:9f30b0c3-3f79-43f6-b146-81fddc68f581
DTSTART:20210104T070000Z
DTEND:20210104T090000Z
DESCRIPTION:\n\nהכנס השנתי המרכזי בישראל לתקשוב ומיחשוב בשלטון המקומי\
 n\nהשנה נדגיש את פתרונות העיר החכמה שנועדו לעזור לערים להיות יותר דיגי
 טליות ובטוחות.\n\nערים שהחלו ליישם את הטכנולוגיות החל מבינה מלאכותית ו
 עד IOT אלו חידושים המהווים חלק בלתי נפרד לקדם קיימות ולהשיג יעילות טוב
 ה יותר לעיר.\n\n\nאנו ממליצים להתעדכן באתר מידי פעם ולוודא שהמיקום או 
 תאריך האירוע לא שונה: https://smart-city-2021.events.co.il/home
LAST-MODIFIED:20210713T091641
LOCATION:אונליין
ORGANIZER;CN=People & Computers:mailto:events@thepeople.co.il
SUMMARY:SMART CITY 2021
URL:https://smart-city-2021.events.co.il/home
BEGIN:VALARM
ACTION:DISPLAY
TRIGGER:-P1D
DESCRIPTION:REMINDER
SUMMARY:SMART CITY 2021 מחר בשעה 09:00!
END:VALARM
END:VEVENT
END:VCALENDAR
