BEGIN:VCALENDAR

PRODID:icalendar-ruby
CALSCALE:GREGORIAN
METHOD:REQUEST
BEGIN:VEVENT
DTSTAMP:20210912T012510Z
UID:f6ca96de-148d-4dc7-92a2-8a72f31703f0
DTSTART:20210119T070000Z
DTEND:20210119T100000Z
DESCRIPTION:\n\nהכנס השנתי לניהול ידע ומסמכים\n\nאנחנו עסוקים כל השנה 
 בעשייה- בשיתוף הידע\, בארגון המסמכים\, באוטומציה וייעול תהליכים הקשורי
 ם במידע וידע. והשנה\, לאור התקופה\, ביתר שאת.\n\nזה הזמן לעצור\, לשמוע
  וללמוד מה עשו אחרים\, מה חדש בתחום\, ואיך כל אחד יכול לקדם מחר בבוקר 
 עוד רעיון חדש בארגונו.\n\n\n\nהנושאים המרכזיים השנה:\n\n\n	ניהול ידע ב
 צל קורונה: כלים ומתודולוגיות ליצירת תרבות עבודה ושיתוף\n	בינה מלאכותית
 : פתרונות חדשים ואפשרויות יישום ראשונים בעברית. התנסויות ראשונות\n	שיר
 ותים דיגיטליים ללקוחות- טרנספורמציה דיגיטלית בארגונים: קפיצות מדרגה בא
 וטומציה הן ללקוחות והן פנימית בארגון\n	ניהול ידע חדשני: יישום תפיסות A
 GILE בפרויקטים של ניהול ידע\n	אפליקציות לתקשורת ארגונית: תפיסות חדשות 
 להפרדת התקשורת מהפורטל ומעבר לכלים נוחים ונגישים לכלל העובדים.\n\n\n\n
 אנו ממליצים להתעדכן באתר מידי פעם ולוודא שהמיקום או תאריך האירוע לא שו
 נה: https://kmdm-2021.events.co.il/home
LAST-MODIFIED:20210713T091628
LOCATION:אונליין
ORGANIZER;CN=People & Computers:mailto:events@thepeople.co.il
SUMMARY:KMDM 2021
URL:https://kmdm-2021.events.co.il/home
BEGIN:VALARM
ACTION:DISPLAY
TRIGGER:-P1D
DESCRIPTION:REMINDER
SUMMARY:KMDM 2021 מחר בשעה 09:00!
END:VALARM
END:VEVENT
END:VCALENDAR
