BEGIN:VCALENDAR
VERSION:2.0
PRODID:icalendar-ruby
CALSCALE:GREGORIAN
METHOD:REQUEST
BEGIN:VEVENT
DTSTAMP:20210427T102555Z
UID:e75144a3-3f3c-4096-9654-56e761880bef
DTSTART:20200908T064500Z
DTEND:20200908T091500Z
DESCRIPTION:\n\nבואו ללמוד על אבטחת מידע במיקרוסופט\n\nמבוססתZero Trus
 t\n\n\nאנו ממליצים להתעדכן באתר מידי פעם ולוודא שהמיקום או תאריך האירו
 ע לא שונה: https://zero-trust.events.co.il/home
LAST-MODIFIED:20201121T155755
LOCATION:אונליין
ORGANIZER;CN=People & Computers:mailto:events@thepeople.co.il
SUMMARY:Zero Trust
URL:https://zero-trust.events.co.il/home
BEGIN:VALARM
ACTION:DISPLAY
TRIGGER:-P1D
DESCRIPTION:REMINDER
SUMMARY:Zero Trust מחר בשעה 09:45!
END:VALARM
END:VEVENT
END:VCALENDAR
