BEGIN:VCALENDAR

PRODID:icalendar-ruby
CALSCALE:GREGORIAN
METHOD:REQUEST
BEGIN:VEVENT
DTSTAMP:20210422T224343Z
UID:f5ab1a82-499a-455c-92de-38a38be55daf
DTSTART:20210225T070000Z
DTEND:20210225T103000Z
DESCRIPTION:\n\nRobotic Process Automation\n\nטכנולוגיית RPA היא הדבר 
 הבא בייעול תהליכים לעסקים.\nהגדלת הפרודוקטיביות באמצעות שימוש בטכנולוג
 יה מובילה לעלייה משמעותית בשורת הרווח של כל עסק.\nה-RPA אשר הבשילה במה
 לך שנת 2016 מיושמת בעשרות בתי עסק בישראל ואלפים ברחבי העולם.\nיכולת הי
 ישום המהיר של הטכנולוגיה יחד עם תוצאות מדידות בלתי ניתנות לערעור הופכי
 ם אותה ליישום חובה בכל מערכת ארגונית.\nהטכנולוגיה עושה שימוש במגוון מו
 צרים מאסכולות שונות של יישומים רובוטיים (AI\, BI וכו) על מנת להתמודד ע
 ם משימות חוזרות מבוססות כללים ברי תכנות.\nהמערכת מעבירה את העבודה המונ
 וטונית מהעובד למחשב ומאפשרת שימוש יעיל יותר במשאבים האנושיים של החברה 
 לצרכים משתנים ומאתגרים.\nRPA הוגדרה רק לאחרונה עי גרטנר כטכנולוגיה העס
 קית הצומחת ביותר לארגונים בשנת 2019\, והיא רק בתחילת דרכה.\nניתן לצפות
  תקופה של צמיחה מתפרצת בשנים הקרובות.\nהכנס יהווה פטפורמה לדיון מעמיק 
 בסוגיות הנל יחד עם התייחסות לגורמים מעכבים בשוק כגון:\n\n\n	גופי ניהול
  סיכונים\n	מחלקות HR המוטרדות מהשינוי הארגוני\n	מחלקות IT המודאגות מאב
 טחת מידע ואובדן שליטה על ניהולו.\n\n\n\nאנו ממליצים להתעדכן באתר מידי 
 פעם ולוודא שהמיקום או תאריך האירוע לא שונה: https://rpa-virtual2021.ev
 ents.co.il/home
LAST-MODIFIED:20210418T115227
LOCATION:אונליין
ORGANIZER;CN=People & Computers:mailto:events@thepeople.co.il
SUMMARY:RPA Virtual 2021
URL:https://rpa-virtual2021.events.co.il/home
BEGIN:VALARM
ACTION:DISPLAY
TRIGGER:-P1D
DESCRIPTION:REMINDER
SUMMARY:RPA Virtual 2021 מחר בשעה 09:00!
END:VALARM
END:VEVENT
END:VCALENDAR
