BEGIN:VCALENDAR

PRODID:icalendar-ruby
CALSCALE:GREGORIAN
METHOD:REQUEST
BEGIN:VEVENT
DTSTAMP:20210423T121820Z
UID:c6435859-f00b-4379-9f98-5d2ca55a85b2
DTSTART:20200615T063000Z
DTEND:20200615T083000Z
DESCRIPTION:\n\nמפגש פורום ייחודי על פלטפורמת זום\n\nההרצאות במפגש הוו
 ירטואלי הקרוב יעסקו בנושאים הבאים:\n\n- שינוי תפיסת הפרטיות\n\n- החולי
 יה החלשה: סיכון הסייבר בתקופת משבר הקורונה\n\n- איום הסייבר בצל הקורונ
 ה: מגמות ותובנות\n\n\nאנו ממליצים להתעדכן באתר מידי פעם ולוודא שהמיקום
  או תאריך האירוע לא שונה: https://corona-cyber-sec.events.co.il/home
LAST-MODIFIED:20210418T115227
LOCATION:אונליין
ORGANIZER;CN=People & Computers:mailto:events@thepeople.co.il
SUMMARY:The Coronavirus Impact on Cyber Sec
URL:https://corona-cyber-sec.events.co.il/home
BEGIN:VALARM
ACTION:DISPLAY
TRIGGER:-P1D
DESCRIPTION:REMINDER
SUMMARY:The Coronavirus Impact on Cyber Sec מחר בשעה 09:30!
END:VALARM
END:VEVENT
END:VCALENDAR
