BEGIN:VCALENDAR

PRODID:icalendar-ruby
CALSCALE:GREGORIAN
METHOD:REQUEST
BEGIN:VEVENT
DTSTAMP:20210427T175602Z
UID:96f30f5e-e440-4b58-90ee-7836e1f7071c
DTSTART:20200618T063000Z
DTEND:20200618T094500Z
DESCRIPTION:\n\nמנהלי הפרויקטים - המנוע לחזרה לשגרה\n\nLive Webinar\n\
 n** השתתפות בכנס הווירטואלי מקנה נקודות 6 PDU\n\n\nאנו ממליצים להתעדכן
  באתר מידי פעם ולוודא שהמיקום או תאריך האירוע לא שונה: https://pmi-vir
 tual-conference.events.co.il/home
LAST-MODIFIED:20201207T143409
LOCATION:אונליין
ORGANIZER;CN=People & Computers:mailto:events@thepeople.co.il
SUMMARY:PMI VIRTUAL EVENT
URL:https://pmi-virtual-conference.events.co.il/home
BEGIN:VALARM
ACTION:DISPLAY
TRIGGER:-P1D
DESCRIPTION:REMINDER
SUMMARY:PMI VIRTUAL EVENT מחר בשעה 09:30!
END:VALARM
END:VEVENT
END:VCALENDAR
