BEGIN:VCALENDAR
VERSION:2.0
PRODID:icalendar-ruby
CALSCALE:GREGORIAN
METHOD:REQUEST
BEGIN:VEVENT
DTSTAMP:20210428T055747Z
UID:92ebdb1b-40c9-4c41-9dd4-60f25ecd9a4b
DTSTART:20200513T063000Z
DTEND:20200513T063000Z
DESCRIPTION:\n\n5WAYS to keep CONTINUITY In the DIGITAL BUSINESS\n\n*A
 nother recorded session will take place at 15:00\n\n\n\nחוזרים לשגרה? 
 IBM מציגה 5 כלים דיגיטליים שיעזרו לכם לעמוד על המסלול.\n\nמיוחד: כל מש
 תתפי הכנס יוכלו לקבל מוצר לתקופת ניסיון של 90 ימים\, בכפוףלתנאי השימוש
 .\n\nהירשמו לכנס\, ההרשמה בעיצומה וחופשית\n\n\n\n\n\n\nStay updated on
  latest changes at the conference website: https://ibm-5ways-to-keep-c
 ontinuity.events.co.il/home
LAST-MODIFIED:20201121T155755
LOCATION:Online
ORGANIZER;CN=People & Computers:mailto:events@thepeople.co.il
SUMMARY: IBM - 5 Ways Continuity
URL:https://ibm-5ways-to-keep-continuity.events.co.il/home
BEGIN:VALARM
ACTION:DISPLAY
TRIGGER:-P1D
DESCRIPTION:REMINDER
SUMMARY: IBM - 5 Ways Continuity Tomorrow At 09:30!
END:VALARM
END:VEVENT
END:VCALENDAR
