BEGIN:VCALENDAR

PRODID:icalendar-ruby
CALSCALE:GREGORIAN
METHOD:REQUEST
BEGIN:VEVENT
DTSTAMP:20210423T140317Z
UID:7afa82f1-4698-4041-91e8-cd13dfc9b64c
DTSTART:20200429T063000Z
DTEND:20200429T073000Z
DESCRIPTION:\n\nהמשכיות עסקית: מפגש מיוחד כחול לבן ליום העצמאות\n\nמרת
 ון הצדעה ופרגון לקהילת ההיי-טק בישראל\n\nוברכות חמות וחזרה לימים כתיקו
 נם\n\n\nאנו ממליצים להתעדכן באתר מידי פעם ולוודא שהמיקום או תאריך האיר
 וע לא שונה: https://corona-independent-day.events.co.il/home
LAST-MODIFIED:20210308T145137
LOCATION:אונליין
ORGANIZER;CN=People & Computers:mailto:events@thepeople.co.il
SUMMARY:יום העצמאות - קורונה
URL:https://corona-independent-day.events.co.il/home
BEGIN:VALARM
ACTION:DISPLAY
TRIGGER:-P1D
DESCRIPTION:REMINDER
SUMMARY:יום העצמאות - קורונה מחר בשעה 09:30!
END:VALARM
END:VEVENT
END:VCALENDAR
