BEGIN:VCALENDAR
VERSION:2.0
PRODID:icalendar-ruby
CALSCALE:GREGORIAN
METHOD:REQUEST
BEGIN:VEVENT
DTSTAMP:20210423T140241Z
UID:564a2f5f-73db-46f8-b5a9-25eb69de6fba
DTSTART:20200524T063000Z
DTEND:20200524T090000Z
DESCRIPTION:\n\nמפגש מספר 5 בסדרת המפגשים החדשה סביב משבר הקורונה\n\nמ
 פגש חמישי בסדרת הכנסים סביב משבר הקורונה:\n\nמה ניתןלעשות על מנת לנסות
  לנהל שגרת חיים בתקופהזו?\n\nהתכנית * הפעולה * הפתרון * אבטחת המידע\n\
 nמנמ"רים\, מנהלי תשתיות ומנהלי אבטחת מידע ישתפו מניסיונם כיצד ניתן להת
 מודד ולהצליח.\n\nמרצים מהמגזרים המובילים: רפואי\, פיננסי\, מוניציפלי\,
  היי-טק\, ועוד.\n\n\nאנו ממליצים להתעדכן באתר מידי פעם ולוודא שהמיקום 
 או תאריך האירוע לא שונה: https://corona-crisis-no5.events.co.il/home
LAST-MODIFIED:20201223T145825
LOCATION:אונליין
ORGANIZER;CN=People & Computers:mailto:events@thepeople.co.il
SUMMARY:המשכיות עסקית חזרה ממשבר לעבודה סדירה: מפגש #5
URL:https://corona-crisis-no5.events.co.il/home
BEGIN:VALARM
ACTION:DISPLAY
TRIGGER:-P1D
DESCRIPTION:REMINDER
SUMMARY:המשכיות עסקית חזרה ממשבר לעבודה סדירה: מפגש #5 מחר בשעה 09:30!
END:VALARM
END:VEVENT
END:VCALENDAR
