BEGIN:VCALENDAR
VERSION:2.0
PRODID:icalendar-ruby
CALSCALE:GREGORIAN
METHOD:REQUEST
BEGIN:VEVENT
DTSTAMP:20210423T121817Z
UID:e418f38d-92c8-4717-abca-679f2aef5559
DTSTART:20200510T063000Z
DTEND:20200510T093000Z
DESCRIPTION:\n\nמפגש מספר 4 בסדרת המפגשים החדשה סביב משבר הקורונה\n\nמ
 פגש רביעי בסדרת הכנסים סביב משבר הקורונה:\n\nמה ניתןלעשות על מנת לנסות
  לנהל שגרת חיים בתקופת אסון?\n\nהתכנית * הפעולה * הפתרון * אבטחת המידע
 \n\nמנמ"רים\, מנהלי תשתיות ומנהלי אבטחת מידע ישתפו מניסיונם כיצד ניתן 
 להתמודד ולהצליח בעת משבר.\n\nמרצים מהמגזרים המובילים: רפואי\, פיננסי\,
  מוניציפלי\, היי-טק\, ועוד.\n\n\nאנו ממליצים להתעדכן באתר מידי פעם ולו
 ודא שהמיקום או תאריך האירוע לא שונה: https://corona-crisis-no4.events.
 co.il/home
LAST-MODIFIED:20210228T115014
LOCATION:אונליין
ORGANIZER;CN=People & Computers:mailto:events@thepeople.co.il
SUMMARY:המשכיות עסקית חזרה ממשבר לעבודה סדירה: מפגש #4
URL:https://corona-crisis-no4.events.co.il/home
BEGIN:VALARM
ACTION:DISPLAY
TRIGGER:-P1D
DESCRIPTION:REMINDER
SUMMARY:המשכיות עסקית חזרה ממשבר לעבודה סדירה: מפגש #4 מחר בשעה 09:30!
END:VALARM
END:VEVENT
END:VCALENDAR
