BEGIN:VCALENDAR

PRODID:icalendar-ruby
CALSCALE:GREGORIAN
METHOD:REQUEST
BEGIN:VEVENT
DTSTAMP:20210423T140327Z
UID:22ca6d7e-4002-45d4-b775-ddf6b87d7c04
DTSTART:20200423T063000Z
DTEND:20200423T090500Z
DESCRIPTION:\n\nמפגש מספר 3 בסדרת המפגשים החדשה סביב משבר הקורונה\n\nמ
 פגש שלישי בסדרת הכנסים סביב משבר הקורונה:\n\nמה ניתןלעשות על מנת לנסות
  לנהל שגרת חיים בתקופת אסון?\n\nהתכנית * הפעולה * הפתרון * אבטחת המידע
 \n\nמנמ"רים\, מנהלי תשתיות ומנהלי אבטחת מידע ישתפו מניסיונם כיצד ניתן 
 להתמודד ולהצליח בעת משבר.\n\nמרצים מהמגזרים המובילים: רפואי\, פיננסי\,
  מוניציפלי\, היי-טק\, ועוד.\n\n\nאנו ממליצים להתעדכן באתר מידי פעם ולו
 ודא שהמיקום או תאריך האירוע לא שונה: https://corona-crisis-no3.events.
 co.il/home
LAST-MODIFIED:20210308T145137
LOCATION:אונליין
ORGANIZER;CN=People & Computers:mailto:events@thepeople.co.il
SUMMARY:המשכיות עסקית: עבודה מרחוק בעידן הקורונה ובהמשך - מפגש 3 בסדרה
URL:https://corona-crisis-no3.events.co.il/home
BEGIN:VALARM
ACTION:DISPLAY
TRIGGER:-P1D
DESCRIPTION:REMINDER
SUMMARY:המשכיות עסקית: עבודה מרחוק בעידן הקורונה ובהמשך - מפגש 3 בסדרה
  מחר בשעה 09:30!
END:VALARM
END:VEVENT
END:VCALENDAR
