BEGIN:VCALENDAR

PRODID:icalendar-ruby
CALSCALE:GREGORIAN
METHOD:REQUEST
BEGIN:VEVENT
DTSTAMP:20210428T055737Z
UID:c750675e-4b43-44d5-bf8a-7c8a642fe4f3
DTSTART:20200216T060000Z
DTEND:20200216T113000Z
DESCRIPTION:\n\nטקס הכתרת הפרויקטים הזוכים הענקת אותות המנמ"ר המצטיין\
 n\nצמרת תעשיית ה-IT בישראל -מנמ"רים\, מנכ"לים\, ספקים ומצטיינים נפגשים
 \n\n\nאנו ממליצים להתעדכן באתר מידי פעם ולוודא שהמיקום או תאריך האירוע
  לא שונה: https://it-awards-2019.events.co.il/home
LAST-MODIFIED:20210418T115226
LOCATION:LAGO\, רחוב המאה ועשרים 6\, ראשון לציון 
ORGANIZER;CN=People & Computers:mailto:events@thepeople.co.il
SUMMARY:IT AWARDS 2019
URL:https://it-awards-2019.events.co.il/home
BEGIN:VALARM
ACTION:DISPLAY
TRIGGER:-P1D
DESCRIPTION:REMINDER
SUMMARY:IT AWARDS 2019 מחר בשעה 08:00!
END:VALARM
END:VEVENT
END:VCALENDAR
