BEGIN:VCALENDAR
VERSION:2.0
PRODID:icalendar-ruby
CALSCALE:GREGORIAN
METHOD:REQUEST
BEGIN:VEVENT
DTSTAMP:20210428T055730Z
UID:724696c4-4ee6-4c19-bee0-4c042e63a60d
DTSTART:20200226T063000Z
DTEND:20200226T100000Z
DESCRIPTION:\n\nהתנהלות בשנה ללא תקציב\n\nשנת 2020 מלאת אתגרים.\n\nהתנ
 הלות בשנה ללא ממשלה וללא תקציב ממשלתי מאושר.\n\nאתגרים\, תהליכים ומה ש
 ביניהם.\n\nעל כל זאת ועוד נדון במפגש הקרוב.\n\n\nאנו ממליצים להתעדכן ב
 אתר מידי פעם ולוודא שהמיקום או תאריך האירוע לא שונה: https://year-with
 out-budget.events.co.il/home
LAST-MODIFIED:20210111T145905
LOCATION:יס פלאנט ירושלים
ORGANIZER;CN=People & Computers:mailto:events@thepeople.co.il
SUMMARY:פורום המשפיעים - מפגש ההשקה!
URL:https://year-without-budget.events.co.il/home
BEGIN:VALARM
ACTION:DISPLAY
TRIGGER:-P1D
DESCRIPTION:REMINDER
SUMMARY:פורום המשפיעים - מפגש ההשקה! מחר בשעה 08:30!
END:VALARM
END:VEVENT
END:VCALENDAR
