BEGIN:VCALENDAR

PRODID:icalendar-ruby
CALSCALE:GREGORIAN
METHOD:REQUEST
BEGIN:VEVENT
DTSTAMP:20210505T143559Z
UID:e79289e3-796a-495b-a796-d0b2ff2a0cee
DTSTART:20200122T063000Z
DTEND:20200122T100000Z
DESCRIPTION:\n\nהקמת פורטלים ארגוניים ומקצועיים \n\nמהם ההבדלים באופי 
 הפורטלים וכיצד מתכננים פורטל מיטבי?\n\nהמפגש יעסוק באפיון פורטלים על פ
 י תפיסת משולש הזהב.\n\nכמו כן\, יוצג מקרה דוגמה של הקמת הפורטלים המקצו
 עיים במשרד המשפטים.\n\n\nאנו ממליצים להתעדכן באתר מידי פעם ולוודא שהמי
 קום או תאריך האירוע לא שונה: https://establishing-professional-portals
 .events.co.il/home
LAST-MODIFIED:20200525T145833
LOCATION:יס פלאנט ראשון לציון\, המאה ועשרים 4
ORGANIZER;CN=People & Computers:mailto:events@thepeople.co.il
SUMMARY:פורטלים מקצועיים 22.1.2020 
URL:https://establishing-professional-portals.events.co.il/home
BEGIN:VALARM
ACTION:DISPLAY
TRIGGER:-P1D
DESCRIPTION:REMINDER
SUMMARY:פורטלים מקצועיים 22.1.2020  מחר בשעה 08:30!
END:VALARM
END:VEVENT
END:VCALENDAR
