BEGIN:VCALENDAR
VERSION:2.0
PRODID:icalendar-ruby
CALSCALE:GREGORIAN
METHOD:REQUEST
BEGIN:VEVENT
DTSTAMP:20210927T041541Z
UID:f76fabcd-f8db-4392-b163-8a460ae399bf
DTSTART:20191126T070000Z
DTEND:20191126T103000Z
DESCRIPTION:\n\nRed Hat Enterprise Linux is the world’s leading enterp
 rise Linux platform\n\nIts an open source operating system (OS).\nIts 
 the foundation from which you can scale existing apps\nand roll out em
 erging technologies across bare-metal\,\nvirtual\, container\, and all
  types of cloud environments\n\nMain Topics:\n\n\n	New features in rhe
 l 8\n	Updated softwares\n	Cockpit\n	Vdo\n	Kdump\n	Composer\n	GNOME\n\n
 \nTarget audience: IT Manager\, System Linux\n\n\n\n\nStay updated on 
 latest changes at the conference website: https://red-hat-enterprise-l
 inux-8.events.co.il/home
LAST-MODIFIED:20200525T150216
LOCATION:Matrix Office\, Aba Even 3 Herzeliya
ORGANIZER;CN=People & Computers:mailto:events@thepeople.co.il
SUMMARY:Red Hat Enterprise Linux 8
URL:https://red-hat-enterprise-linux-8.events.co.il/home
BEGIN:VALARM
ACTION:DISPLAY
TRIGGER:-P1D
DESCRIPTION:REMINDER
SUMMARY:Red Hat Enterprise Linux 8 Tomorrow At 09:00!
END:VALARM
END:VEVENT
END:VCALENDAR
