BEGIN:VCALENDAR
VERSION:2.0
PRODID:icalendar-ruby
CALSCALE:GREGORIAN
METHOD:REQUEST
BEGIN:VEVENT
DTSTAMP:20210428T153529Z
UID:6750355c-df7d-4b6d-a670-00fe86af5b77
DTSTART:20191212T060000Z
DTEND:20191212T130000Z
DESCRIPTION:\n\nכנס בריאות דיגיטלית\n\nהבריאות הדיגיטלית הפכה להיות בש
 נים האחרונות חלק בלתי נפרד ממערכת הבריאות בישראל\, שצפויה לשנות באופן 
 דרמתי את רמת שירותי הבריאות בישראל.\nבמרץ 2018 קיבלה ממשלת ישראל\, בהו
 בלת משרד הבריאות ומטה ישראל דיגיטלית\, רשות החדשנות ומשרדי הממשלה השונ
 ים\, החלטה שמטרתה קידום הבריאות הדיגיטלית כמנוע צמיחה לאומי.\nהכנס ותע
 רוכת D-HEALTH של אנשים ומחשבים נערכים זו השנה העשירית ברציפות\, יציג א
 ת הפעילות של ארגוני הבריאות\, ומשרדי הממשלה במסגרת יישום התוכנית הלאומ
 ית\, וכן יציג את היעדים ל-2020.\n\nמי יהיה בכנס?\nהכנס מהווה מקום מפגש
  שבו משתתפים מנהלי חדשנות במגזר הבריאות\, מנהלים בכירים מבתי חולים ואר
 גוני בריאות\, יזמים ומשקיעים וחברות סטארט אפ הפועלות במגזר הבריאות.\n\
 nבין הנושאים וההרצאות\n\n\n	המטופל במרכז - כמנוע מרכזי לשינוי ושיפור ה
 שירות\n	רפואה מותאמת אישית - טיפולים תומכי מערכות טכנולוגיות המאפשרות 
 להעניק טיפול מיטבי למטופל\n	רפואה מרחוק  שירות רופא מהבית. המילה האחרו
 נה ברפואה מבוססת טכנולוגיה ומערכות מידע - לטפל בחולה בסביבתו הביתית בר
 מה הגבוהה ביותר\n	רפואה פרואקטיבית\, פרדקטיבית ורפואה מונעת\n	רפואה מר
 חוק \n	פאנל משקיעים כיצד להתנהל נכון מול משקיעים \n	שירות רופא מהבית\,
  כיצד זה התקדם ומה יש היום\n	תהליכי ייעול ושיפור מערכות המידע במערכת ה
 בריאות\n	אתגרי המעבר לענן במערכת הבריאות\n	IOT במערכת הבריאות\n	בינה מ
 לאכותית\, AI במערכת הבריאות\n	היבטי סייבר ואבטחת מידע\n\n\n\n\nתחרות ס
 טארט אפ\nגם השנה נעניק הזדמנות לחשיפה ופרסים לחברות סטארט אפ שישתתפו ב
 תחרות פתרונות למגזר הבריאות. פרטים בהמשך\n\n\nאנו ממליצים להתעדכן באתר
  מידי פעם ולוודא שהמיקום או תאריך האירוע לא שונה: https://dhealth-2019
 .events.co.il/home
LAST-MODIFIED:20210418T115226
LOCATION:LAGO\, רחוב המאה ועשרים 6\, ראשון לציון 
ORGANIZER;CN=People & Computers:mailto:events@thepeople.co.il
SUMMARY:dHealth 2019
URL:https://dhealth-2019.events.co.il/home
BEGIN:VALARM
ACTION:DISPLAY
TRIGGER:-P1D
DESCRIPTION:REMINDER
SUMMARY:dHealth 2019 מחר בשעה 08:00!
END:VALARM
END:VEVENT
END:VCALENDAR
