BEGIN:VCALENDAR

PRODID:icalendar-ruby
CALSCALE:GREGORIAN
METHOD:REQUEST
BEGIN:VEVENT
DTSTAMP:20210506T040430Z
UID:7149cb4d-925b-488a-8682-731f14e51719
DTSTART:20190717T053000Z
DTEND:20190717T083000Z
DESCRIPTION:\n\nמפגש פורום DATA SCIENCE בנושא בינה מלאכותית\n\nהשימוש 
 של ישומי BI ואנליטיקה עם יכולות Artificial Intelligence (AI) מוטמע כיו
 ם ברוב מוצרי התוכנה הקיימים בתחום\,\n\nומאפשר לארגונים ליישם מערכות לו
 מדות המשפרות על ציר הזמן את יכולתן לתת לארגון ערך רב יותר ויותר בתהליך
  של "קבלת החלטות מבוססות מידע" להיות בעידן הדיגיטלי ל- Data Driven Org
 anization.\n\nAI כיום אינו רק Buzz אלא רכיב מרכזי במוצרי תוכנה רבים המ
 אפשר למוצר ללמוד את הקיים ולשפר כל העת את התוצאה של "שאלות המחקר" הארג
 וניות.\n\nבאמצעות השימוש ביכולות ה- AI הארגון אמור לקבל החלטות איכותיו
 ת יותר\, ולשפר את יכולתו להשיג את יעדיו העיסקיים.\n\nבמפגש ה- Data Sci
 ence הקרוב נוכל ללמוד מהו AI ומה ההבדלים בין המודלים השונים בהם הוא עו
 שה שימוש\,וכן להבין את יכולות ה- AI בתהליך ה- Data Management מחד\, ומ
 ערכות אנליטיות מאידך.\n\nבמסגרת ההרצאותיינתנו גםUse Cases מתחומים שוני
 םודוגמאות של פרויקטים ארגוניים.\n\n\nאנו ממליצים להתעדכן באתר מידי פעם
  ולוודא שהמיקום או תאריך האירוע לא שונה: https://ibi-6-2018.events.co.
 il/home
LAST-MODIFIED:20201228T122749
LOCATION:יס פלאנט ראשון לציון\, המאה ועשרים 4
ORGANIZER;CN=People & Computers:mailto:events@thepeople.co.il
SUMMARY:Artificial Intelligence as a Game Changer 
URL:https://ibi-6-2018.events.co.il/home
BEGIN:VALARM
ACTION:DISPLAY
TRIGGER:-P1D
DESCRIPTION:REMINDER
SUMMARY:Artificial Intelligence as a Game Changer  מחר בשעה 08:30!
END:VALARM
END:VEVENT
END:VCALENDAR
