BEGIN:VCALENDAR
VERSION:2.0
PRODID:icalendar-ruby
CALSCALE:GREGORIAN
METHOD:REQUEST
BEGIN:VEVENT
DTSTAMP:20210927T041513Z
UID:7d81cda2-9d2a-464c-b788-986f1af59ca7
DTSTART:20190911T050000Z
DTEND:20190911T120000Z
DESCRIPTION:\n\nבאירוע החדשנות Innovation Day Tel Aviv 2019 תציג שנייד
 ר אלקטריק חידושים טכנולוגיים בעולמות ניהול האנרגיה ואוטומציה\, שייתנו 
 כוח להניע קדימה את כלכלת הדיגיטל המתפתחת.\n\nערים חכמות. רשתות אנרגיה 
 חכמות. תעשייה חכמה. בניינים חכמים. העולם הולך ונעשה יותר מחובר\, יותר 
 חשמלי\, יותר דיגיטלי\, ויותר ירוק.באירוע החדשנות Innovation Day Tel Av
 iv 2019 תציג שניידר אלקטריק חידושים טכנולוגיים בעולמות ניהול האנרגיה ו
 אוטומציה\, שייתנו כוח להניע קדימה את כלכלת הדיגיטל המתפתחת.\n\nלאתר הח
 ברהhttp://www.se.com/il\n\n\n\n\n\n\nאנו ממליצים להתעדכן באתר מידי פעם
  ולוודא שהמיקום או תאריך האירוע לא שונה: https://innovation-summit-tel
 -aviv-2019.events.co.il/home
LAST-MODIFIED:20200525T150153
LOCATION:אווניו מרכז אירועים וקונגרסים\, קרית שדה התעופה
ORGANIZER;CN=People & Computers:mailto:events@thepeople.co.il
SUMMARY:Innovation Day Tel Aviv 2019
URL:https://innovation-summit-tel-aviv-2019.events.co.il/home
BEGIN:VALARM
ACTION:DISPLAY
TRIGGER:-P1D
DESCRIPTION:REMINDER
SUMMARY:Innovation Day Tel Aviv 2019 מחר בשעה 08:00!
END:VALARM
END:VEVENT
END:VCALENDAR
