BEGIN:VCALENDAR
VERSION:2.0
PRODID:icalendar-ruby
CALSCALE:GREGORIAN
METHOD:REQUEST
BEGIN:VEVENT
DTSTAMP:20210926T235958Z
UID:6ef9683f-642d-4447-b391-5540cf121f75
DTSTART:20190912T053000Z
DTEND:20190912T130000Z
DESCRIPTION:\n\nהצטרפו אלינו וגלו את האמת כיצד להתכונן ולהגיב למתקפות 
 הסייבר המתרחשות סביבנו\n\nהסיכון מעולם לא היה גדול יותר\, כנופיות פשע 
 קיברנטי בשיתוף טרוריסטים בחסות מדינות\n\nמאבקים גאו-פוליטיים עוברים מז
 ירת הקרב בשדה המערכה לתשתיות הטכנולוגיות של חברות ומדינות ברחבי אירופה
 \n\nהיכולת\, להעריך את הסיכוןולמצב את ההערכות הראויה נחשבת לשיקול האבט
 חה החשוב ביותר העומד בפני ארגונים כיום\n\nאנו מזמינים אתכם להצטרף אלינ
 ו לאירועFireEye Cyber Defense 2019\n\nוללמוד כיצד אנו מסייעים ללקוחותי
 נו למנוע ולהגיב לתוקפים ע"י שילוב ייחודי של ניסיון בחזית הקרב\, מודיעי
 ן מקיף ומדויק וטכנולוגיה מובילה\n\n\nStay updated on latest changes at
  the conference website: https://fireeye-cyber-2019.events.co.il/home
LAST-MODIFIED:20210713T091630
LOCATION:Dan Accadia Hotel\, Ramat Yam 122 Street\, Herzliya
ORGANIZER;CN=People & Computers:mailto:events@thepeople.co.il
SUMMARY:FIREEYE CYBER 2019
URL:https://fireeye-cyber-2019.events.co.il/home
BEGIN:VALARM
ACTION:DISPLAY
TRIGGER:-P1D
DESCRIPTION:REMINDER
SUMMARY:FIREEYE CYBER 2019 Tomorrow At 08:30!
END:VALARM
END:VEVENT
END:VCALENDAR
