BEGIN:VCALENDAR
VERSION:2.0
PRODID:icalendar-ruby
CALSCALE:GREGORIAN
METHOD:REQUEST
BEGIN:VEVENT
DTSTAMP:20211013T205231Z
UID:3dbb6dae-3202-4f55-a3e1-fd7ba0e1e86f
DTSTART:20190404T060000Z
DTEND:20190404T111500Z
DESCRIPTION:\n\nכיצד משתלבים פתרונות ה-BI של Qlik Israel במגזר הציבורי
 ?\n\nבאירוע זה נחשוף את החידושים האחרונים בפלטפורמת Qlik וכיצד הם משתל
 בים במגזר הציבורי.\n\nנבחן את הדרכים המומלצות להטמעות קלות ופשוטות\, נ
 ספר את סיפורו של לקוח מרתק ונקיים סדנה מעשית על כלי ה-BI המתקדם Qlik S
 ense\n\n\nאנו ממליצים להתעדכן באתר מידי פעם ולוודא שהמיקום או תאריך הא
 ירוע לא שונה: https://qlik-israel.events.co.il/home
LAST-MODIFIED:20200525T150204
LOCATION:מלון ממילא\, שלמה המלך 11\, ירושלים
ORGANIZER;CN=People & Computers:mailto:events@thepeople.co.il
SUMMARY:Qlik Israel 
URL:https://qlik-israel.events.co.il/home
BEGIN:VALARM
ACTION:DISPLAY
TRIGGER:-P1D
DESCRIPTION:REMINDER
SUMMARY:Qlik Israel  מחר בשעה 09:00!
END:VALARM
END:VEVENT
END:VCALENDAR
