BEGIN:VCALENDAR
VERSION:2.0
PRODID:icalendar-ruby
CALSCALE:GREGORIAN
METHOD:REQUEST
BEGIN:VEVENT
DTSTAMP:20211013T205217Z
UID:5af0db2e-3f2b-49f6-9d93-60f043f67025
DTSTART:20190312T063000Z
DTEND:20190312T110000Z
DESCRIPTION:\n\nWideops ו-Google Cloud שמחות להזמינך למפגש חדשנות בתחו
 ם הענן \n\nבואו לשמוע על החידושים והפתרונות החמים בתחום\n\n\nאנו ממליצ
 ים להתעדכן באתר מידי פעם ולוודא שהמיקום או תאריך האירוע לא שונה: https
 ://wideops.events.co.il/home
LAST-MODIFIED:20200525T145706
LOCATION:מת"ם חיפה\, בניין 23\, אנדריי סחרוב 9\, חיפה
ORGANIZER;CN=People & Computers:mailto:events@thepeople.co.il
SUMMARY:A look into the future with Google Cloud
URL:https://wideops.events.co.il/home
BEGIN:VALARM
ACTION:DISPLAY
TRIGGER:-P1D
DESCRIPTION:REMINDER
SUMMARY:A look into the future with Google Cloud מחר בשעה 08:30!
END:VALARM
END:VEVENT
END:VCALENDAR
