BEGIN:VCALENDAR
VERSION:2.0
PRODID:icalendar-ruby
CALSCALE:GREGORIAN
METHOD:REQUEST
BEGIN:VEVENT
DTSTAMP:20211013T205220Z
UID:f756c22c-8b87-48f3-81e9-09380d2bd031
DTSTART:20190307T070000Z
DTEND:20190307T103000Z
DESCRIPTION:\n\nבואו לקחת חלק בשולחן עגול מבית IBM Storage\n\nבואו ללמ
 וד מהמומחים שלנו על פתרונות שיסייעו לכם לשפר את הגמישות והאמינות\, להפ
 חית את העלות ולהשיג יותר מהתשתית הקיימת שלכם.\n\nבמפגש נראה כיצד ניתן 
 לבצע אופטימיזציה של הביצועים העסקיים באמצעות פתרונות IBM SPP- Spectrum
  Protect Plus הגנה על נתונים\, נדגים כמה קל להגדיר\, לנהל ולהקל על שחז
 ור נתונים ושימוש בסביבות וירטואליות.\n\nנציג גם את IBM COS- Cloud Obje
 ct Storage היוצר גישה מהפכנית למודרניזציה של האחסון שלכם ומספק גיבוי ל
 נתונים\, שימור לטווח ארוך\, שיפור הזמינות של נתוני גיבוי וארכיון\, תוך
  צמצום עלויות תפעול והגנת נתונים.\n\n\nStay updated on latest changes 
 at the conference website: https://ibm-storage.events.co.il/home
LAST-MODIFIED:20200525T150150
LOCATION:IBM XIV Offices\, Azrieli Square Tower\, Floor 39 - Education
  Room
ORGANIZER;CN=People & Computers:mailto:events@thepeople.co.il
SUMMARY:IBM Storage
URL:https://ibm-storage.events.co.il/home
BEGIN:VALARM
ACTION:DISPLAY
TRIGGER:-P1D
DESCRIPTION:REMINDER
SUMMARY:IBM Storage Tomorrow At 09:00!
END:VALARM
END:VEVENT
END:VCALENDAR
