BEGIN:VCALENDAR

PRODID:icalendar-ruby
CALSCALE:GREGORIAN
METHOD:REQUEST
BEGIN:VEVENT
DTSTAMP:20211013T205207Z
UID:19ff700d-bc1b-406f-9bb1-2ba0c6f9ad6b
DTSTART:20190214T060000Z
DTEND:20190214T110000Z
DESCRIPTION:\n\nטקס הכתרת הפרויקטים הזוכים\n\nצמרת תעשיית ה-IT בישראל-
 מנמ"רים\, מנכ"לים\, ספקים ומצטיינים נפגשים\n\n\nאנו ממליצים להתעדכן בא
 תר מידי פעם ולוודא שהמיקום או תאריך האירוע לא שונה: https://it-awards-
 2018.events.co.il/home
LAST-MODIFIED:20210721T133441
LOCATION:LAGO\, רחוב המאה ועשרים 6\, ראשון לציון 
ORGANIZER;CN=People & Computers:mailto:events@thepeople.co.il
SUMMARY:IT AWARDS 2018
URL:https://it-awards-2018.events.co.il/home
BEGIN:VALARM
ACTION:DISPLAY
TRIGGER:-P1D
DESCRIPTION:REMINDER
SUMMARY:IT AWARDS 2018 מחר בשעה 08:00!
END:VALARM
END:VEVENT
END:VCALENDAR
