BEGIN:VCALENDAR

PRODID:icalendar-ruby
CALSCALE:GREGORIAN
METHOD:REQUEST
BEGIN:VEVENT
DTSTAMP:20210514T113817Z
UID:2af858e0-4d7b-4289-9218-1dce2df9903d
DTSTART:20190401T053000Z
DTEND:20190401T100000Z
DESCRIPTION:\n\nטקס הענקת אותות הערכה על הישגים יוצאי דופן באיכותם ביי
 שום טרנספורמציה דיגיטלית\n\n\n\nאנו ממליצים להתעדכן באתר מידי פעם ולוו
 דא שהמיקום או תאריך האירוע לא שונה: https://best-digital-awards-2019.e
 vents.co.il/home
LAST-MODIFIED:20210509T153947
LOCATION:משרדי Amazon\, \, קומה 28\, מגדל עזריאלי שרונה\, דרך מנחם בגי
 ן 121\, תל אביב
ORGANIZER;CN=People & Computers:mailto:events@thepeople.co.il
SUMMARY:BEST DIGITAL AWARDS
URL:https://best-digital-awards-2019.events.co.il/home
BEGIN:VALARM
ACTION:DISPLAY
TRIGGER:-P1D
DESCRIPTION:REMINDER
SUMMARY:BEST DIGITAL AWARDS מחר בשעה 08:30!
END:VALARM
END:VEVENT
END:VCALENDAR
