BEGIN:VCALENDAR

PRODID:icalendar-ruby
CALSCALE:GREGORIAN
METHOD:REQUEST
BEGIN:VEVENT
DTSTAMP:20211013T205227Z
UID:1a31d9b8-554b-4cbd-83e3-4d5ebb4ac43c
DTSTART:20190219T063000Z
DTEND:20190219T130000Z
DESCRIPTION:\n\nאנחנו מזמינים אותך לכנס ההשקה החגיגי של השותפות  האסטר
 טגית בין NessPRO ו  OpenText\n\nבנוכחותם של מנכ"ל OpenText העולמית מר 
 Mark J. Barrenechea ומנכ"ל Nessמר שחר אפעל.\n\n\n\nבואו לקחת חלק בפריצ
 ת גבולות עולם ניהול התוכן והמידע בעידן הדיגיטלי.\n\n\n\nבכנס נציג את פ
 תרונות הענן של OpenText בישראל\, יכולות האנליטיקה בעולם ניהול התוכן וה
 מדיה\, עבודה במובייל וחידושים נוספים.\n\n\nאנו ממליצים להתעדכן באתר מי
 די פעם ולוודא שהמיקום או תאריך האירוע לא שונה: https://nesspro-opentex
 t-day.events.co.il/home
LAST-MODIFIED:20210713T091627
LOCATION:מלון הילטון\, הירקון 205\, תל אביב יפו\, 6340506
ORGANIZER;CN=People & Computers:mailto:events@thepeople.co.il
SUMMARY:The Intelligent & Connected Enterprise
URL:https://nesspro-opentext-day.events.co.il/home
BEGIN:VALARM
ACTION:DISPLAY
TRIGGER:-P1D
DESCRIPTION:REMINDER
SUMMARY:The Intelligent & Connected Enterprise מחר בשעה 08:30!
END:VALARM
END:VEVENT
END:VCALENDAR
