BEGIN:VCALENDAR
VERSION:2.0
PRODID:icalendar-ruby
CALSCALE:GREGORIAN
METHOD:REQUEST
BEGIN:VEVENT
DTSTAMP:20211013T205250Z
UID:9d09147b-3d00-4e98-9266-bfe9980b9156
DTSTART:20190211T070000Z
DTEND:20190211T070000Z
DESCRIPTION:\n\nDo you work with COBOL systems or applications? Want a
  glimpse into the future of this time-honoured code \n\nSo what is COB
 OL DevDay? Its a\n\n\n	\n	Full\, technology-focused day for devs worki
 ng with COBOL systems\n	\n	\n	Chance to start on your path to moderniz
 ing your COBOL applications\n	\n	\n	Great opportunity to meet Micro Fo
 cus experts\n	\n	\n	Demonstrate the next generation of tools for COBOL
  developers\n	\n\n\nIf youre a developer or IT manager\, or a customer
  using Visual COBOL\, Net Express\, OCDS\, Application Server\, Server
  for COBOL or Server Express\, join us.\n\n\nStay updated on latest ch
 anges at the conference website: https://cobol-devday.events.co.il/hom
 e
LAST-MODIFIED:20200525T150127
LOCATION:Stuko\, Shitrit 2 Street \, Tel Aviv
ORGANIZER;CN=People & Computers:mailto:events@thepeople.co.il
SUMMARY:COBOL DevDay
URL:https://cobol-devday.events.co.il/home
BEGIN:VALARM
ACTION:DISPLAY
TRIGGER:-P1D
DESCRIPTION:REMINDER
SUMMARY:COBOL DevDay Tomorrow At 09:00!
END:VALARM
END:VEVENT
END:VCALENDAR
