BEGIN:VCALENDAR

PRODID:icalendar-ruby
CALSCALE:GREGORIAN
METHOD:REQUEST
BEGIN:VEVENT
DTSTAMP:20211013T205256Z
UID:3886def8-0770-47a0-b0d2-6032ce8853cb
DTSTART:20181225T120000Z
DTEND:20181225T160000Z
DESCRIPTION:\n\nמפגשים בנושאי טכנולוגיות קשר ותקשוב\n\n"עוזרות אישיות"
  דיגיטליות  למה אנחנו צריכים אותן?\n\nהעמותה להנצחת חללי חיל הקשר והתק
 שוב בשיתוף פעולה עם הלשכה לטכנולוגיות המידע בישראל בשיתוף עם קבוצת הוו
 תיקים באיגוד העולמי של מהנדסי אלקטרוניקה IEEE ISRAEL LIFE MEMBERS חברו
  ל"אנשים ומחשבים" לקיום סדרת מפגשים בנושאי טכנולוגיות התקשוב במרכז הכנ
 סים של העמותה להנצחת חללי חיל הקשר והתקשוב ביהוד.\n\n"טכנולוגיה בשלישי
 " ו"שישי טכני" הינם סדרת מפגשים מקצועיים בנושאי קשר ותקשוב עכשוויים\,\
 n\nהמיועדת לקהילה הטכנולוגית בישראל. מטרת המפגשים הינה ליצור דיאלוג בל
 תי תלוי ובלתי מחייב והפרייה הדדית בין גורמי צה"ל לגורמי האקדמיה והתעשי
 ה בתחומי התקשוב. במסגרת המפגשים יוצגו ע"י גורמי צה"ל צרכים\,\n\nמגמות 
 ופערים טכנולוגיים ואילו גורמי האקדמיה והתעשיה יציגו יכולות\, כיוונים ו
 מגמות לפתרונות. המפגש הקרוב בסדרה - יעסוק בנושא מהפכת העוזרות האישיות 
 הוירטואליות והשתלבותן בחיי היום יום שלנו.\n\n\n\n\nאנו ממליצים להתעדכן
  באתר מידי פעם ולוודא שהמיקום או תאריך האירוע לא שונה: https://tuesday
 -technology.events.co.il/home
LAST-MODIFIED:20200525T145652
LOCATION:מרכז הכנסים של העמותה להנצחת חללי חיל הקשר והתקשוב\, רחוב אלפ
 רט 3 יהוד
ORGANIZER;CN=People & Computers:mailto:events@thepeople.co.il
SUMMARY:טכנולוגיה בשלישי
URL:https://tuesday-technology.events.co.il/home
BEGIN:VALARM
ACTION:DISPLAY
TRIGGER:-P1D
DESCRIPTION:REMINDER
SUMMARY:טכנולוגיה בשלישי מחר בשעה 14:00!
END:VALARM
END:VEVENT
END:VCALENDAR
