BEGIN:VCALENDAR

PRODID:icalendar-ruby
CALSCALE:GREGORIAN
METHOD:REQUEST
BEGIN:VEVENT
DTSTAMP:20210504T172550Z
UID:b71935c7-9541-4ac5-b47c-ee88f195e124
DTSTART:20181119T070000Z
DTEND:20181119T100000Z
DESCRIPTION:\n\nTangram\, in collaboration with Matrix DevOps and IBM\
 , invite you to learn from our experts on Containers and Microservices
 . \n\nTangram\, in collaboration with Matrix DevOps and IBM\, invite y
 ou to learn from our experts on Containers and Microservices. A full f
 low of implementing an ALM & DevOps process using Atlassian tools & Gi
 t-Flow will be presented\, with tools such as Jenkins and ICP\, and cu
 stomers will tell us about successfully streamlining systems in their 
 organization using ICP.\n\n\nStay updated on latest changes at the con
 ference website: https://icp-in-the-devops-world.events.co.il/home
LAST-MODIFIED:20200525T145647
LOCATION:Mixer\, Bitan 2\, Ganei Hatarucha\, Tel Aviv
ORGANIZER;CN=People & Computers:mailto:events@thepeople.co.il
SUMMARY:ICP in the DevOps World
URL:https://icp-in-the-devops-world.events.co.il/home
BEGIN:VALARM
ACTION:DISPLAY
TRIGGER:-P1D
DESCRIPTION:REMINDER
SUMMARY:ICP in the DevOps World Tomorrow At 09:00!
END:VALARM
END:VEVENT
END:VCALENDAR
