BEGIN:VCALENDAR

PRODID:icalendar-ruby
CALSCALE:GREGORIAN
METHOD:REQUEST
BEGIN:VEVENT
DTSTAMP:20210504T172615Z
UID:43954942-0dae-406f-8ad5-678e7bdc8ada
DTSTART:20181108T063000Z
DTEND:20181108T120000Z
DESCRIPTION:\n\nקבוצת גטר שמחה להזמין אותך לכנס השותפים השנתי בתחום הת
 קשורת הקווית והאלחוטית.\n\nתקשורת 360 כאן ועכשיו!\n\nלהתחדש\, ללמוד\, 
 לשמוע על מה שקורה בתחום התקשורת מקצה לקצה.\n\nהכנס מיועד למשווקי התקשו
 רת המובילים בישראל\, יועצי תקשורת ונציגים בכירים של יצרניות התקשורת או
 תן מייצגת גטר בישראל.\n\nבארוע נציג את הכיוונים וההתפתחויות בתחום התקש
 ורת כולל סיפורי הצלחה ולקחים וניתן כלים מעשיים להבטחת תקשורת יציבה בשט
 ח.\n\nבמקביל להרצאות תתקיים תערוכת פתרונות בתחום התקשורת הקווית והאלחו
 טית\, טלפוניה ומצלמות אבטחה\,של מיטב היצרנים המובילים בתחום.\n\nמחכה ל
 כולם הפתעה! מצפים לראותכם.\n\n\nאנו ממליצים להתעדכן באתר מידי פעם ולוו
 דא שהמיקום או תאריך האירוע לא שונה: https://getter-group-360.events.co
 .il/home
LAST-MODIFIED:20201229T115619
LOCATION:מלון הרודס\, רחוב העוגן 11 הרצליה
ORGANIZER;CN=People & Computers:mailto:events@thepeople.co.il
SUMMARY:Telecom 360°
URL:https://getter-group-360.events.co.il/home
BEGIN:VALARM
ACTION:DISPLAY
TRIGGER:-P1D
DESCRIPTION:REMINDER
SUMMARY:Telecom 360° מחר בשעה 08:30!
END:VALARM
END:VEVENT
END:VCALENDAR
