BEGIN:VCALENDAR
VERSION:2.0
PRODID:icalendar-ruby
CALSCALE:GREGORIAN
METHOD:REQUEST
BEGIN:VEVENT
DTSTAMP:20210517T192410Z
UID:b134d1c3-8343-40fb-9c36-d5695ea0e1e9
DTSTART:20121111T210000Z
DTEND:20121111T210000Z
DESCRIPTION:\n\n\n\n\n\nאנו ממליצים להתעדכן באתר מידי פעם ולוודא שהמיק
 ום או תאריך האירוע לא שונה: https://tlvforce2012.events.co.il/save-the
 -date
LAST-MODIFIED:20201229T133313
LOCATION:מלון הרודס\, הירקון\, ת"א
ORGANIZER;CN=People & Computers:mailto:events@thepeople.co.il
SUMMARY:TLVforce 2012
URL:https://tlvforce2012.events.co.il/save-the-date
BEGIN:VALARM
ACTION:DISPLAY
TRIGGER:-P1D
DESCRIPTION:REMINDER
SUMMARY:TLVforce 2012 מחר בשעה 23:00!
END:VALARM
END:VEVENT
END:VCALENDAR
