BEGIN:VCALENDAR
VERSION:2.0
PRODID:icalendar-ruby
CALSCALE:GREGORIAN
METHOD:REQUEST
BEGIN:VEVENT
DTSTAMP:20210914T211002Z
UID:39a6eb0e-d282-4c7b-8f28-bc4804773661
DTSTART:20181114T060000Z
DTEND:20181114T130000Z
DESCRIPTION:\n\nCloud Transformation Summit \n\nנשמח לראותך בכנס CLOUD
  TRANSFORMATION SUMMIT\n\nבכנס השנה נציג את החידושים והחדשות תוך התמקד
 ות באתגר שיותר ויותר ארגונים עומדים בפניו: שילוב של עננים פרטיים וציבו
 ריים באופן המתאים לצרכים הטכונלוגיים ובה בעת מאפשר גמישות תפעולית\, לל
 א נעילה טכנולוגית (LockIn) ותוך שמירה על עלויות צפויות וברות שליטה.\n\
 nמנכ"ל ג'וניפר העולמית ידבר על כיצד מייצרים פשטות הנדסית בעידן של צמיח
 ה טכנולוגית מואצת.\n\nמנהל תחום Data Center & Cloud מר. ברט לי ידבר על
  הדרכים והשלבים שעל ארגונים לאמץ בעת מעבר ל-MultiCloud.\n\nיונתן שרמן 
 ו-ולדימיר אורייב ירחיבו אודות פתרונות Automation\, Analytics & Orchest
 ration וניהול בעידן ריבוי עננים והתממשקות בין תשתיות ה-DC לעננים ציבור
 יים ופרטיים.\n\nבנושא אבטחת מידע יספר אבנר סנדרוביץ על פתרונות סייבר ב
 עידן אוטומציה ו-MutliCloud ומר אשלי סטיבנסון מנכ"ל קוררו ידבר על הגנת 
 DDOS והתמודדות עם איומי אבט"מ בזמן אמת.\n\nמני צרפתי מ-REDHAT ידבר על 
 הרשת כ-Accelerator ומכפיל כוח לאפליקציה.\n\nומייקל מלול מנהל תחום SE ב
 ג'וניפר אירופה ידבר על נושאי SD-LAN ו-SD-WAN  מיכון תהליכים ברשתות LAN
  ו-WAN.\n\nבנוסף נערוך לאחר ארוחת הצהריים שני מסלולים טכנולוגיים ממוקד
 ים  מסלול אחד בנושא Data Center והמסלול השני בנושא Service Providers מ
 מוקד לספקי שירותים\n\nשותפיה העסקיים של ג'וניפר  יציגו בכנס הדגמות חיו
 ת של מגוון הפתרונות והכלים בהם יעסוק הכנס וביניהם:\n\n\n	הדגמה של ה-Vi
 rtual MX\, נתב וירטאולי לסביבות ענן היכול להעביר עד 40 גיגה מעל גבי כו
 ח מחשוב שרתים ללא צורך בחומרה ייעודית.\n	הדגמה של החידושים ב- Security
  Director.\n	הדגמה של קווי המוצרים החדשים וביניהם פיירוולים מבוססי חומ
 רה בשכבה 7.\n	תצוגה של פיירוולים SRX4600 מוצר הדגל בסדרת SRX4000 החדשה
 .\n	הדגמה Automatic Mitigation of volumetric DDoS in real-time\n	הדגמה
  EVPN-VXLAN fabric with Ansible for configuration management and strea
 ming telemetry\n	הדגמת אבטחת רשתות LAN עם פתרון ה-SDSN\n	הדגמת אבטחה ר
 שתית אכיפה וניהול בעידן מרובה יצרנים.\n	מטרו אטרנט לספקי שירותים.\n	בנ
 יית Fabric לעולמות ה-DC וה-LAN\n\n\n\n\nנשמח מאוד לראותכם ויהיה מעניין
 !\n\n\nאנו ממליצים להתעדכן באתר מידי פעם ולוודא שהמיקום או תאריך האירו
 ע לא שונה: https://juniper-cloud-transformation.events.co.il/home
LAST-MODIFIED:20210810T125535
LOCATION:LAGO\, רחוב המאה ועשרים 6\, ראשון לציון 
ORGANIZER;CN=People & Computers:mailto:events@thepeople.co.il
SUMMARY:JUNIPER 2018
URL:https://juniper-cloud-transformation.events.co.il/home
BEGIN:VALARM
ACTION:DISPLAY
TRIGGER:-P1D
DESCRIPTION:REMINDER
SUMMARY:JUNIPER 2018 מחר בשעה 08:00!
END:VALARM
END:VEVENT
END:VCALENDAR
