BEGIN:VCALENDAR

PRODID:icalendar-ruby
CALSCALE:GREGORIAN
METHOD:REQUEST
BEGIN:VEVENT
DTSTAMP:20210514T195854Z
UID:2d585aea-4b30-4766-9d09-1c71a9785543
DTSTART:20181023T050000Z
DTEND:20181023T110000Z
DESCRIPTION:\n\nFirst Class Journey \n\nחברת אינוקום\, נציגתם של יצרני
 ות הטכנולוגיה המובילות בעולם מזמינה אותך לשמוע על הטרנדים החדשים והמוב
 ילים\n\nשיעזרו לארגונך לעבור לעידן הדיגיטלי תוך שמירה על יעילות עסקית 
 \, אבטחה מושלמת \, מענה לרגולציות וחווית משתמש משופרת !\n\nאתם מוזמנים
  לנסיעה במחלקה הראשונה שתחשוף את החזון של היצרניות המובילות בעולם שיצע
 יד אתכם לעתיד ומעבר לו..\n\n\nאנו ממליצים להתעדכן באתר מידי פעם ולוודא
  שהמיקום או תאריך האירוע לא שונה: https://innocom-yearly-event.events.
 co.il/home
LAST-MODIFIED:20200525T145708
LOCATION:EAST\, Meitav 13\, Tel-Aviv
ORGANIZER;CN=People & Computers:mailto:events@thepeople.co.il
SUMMARY:Innocom Yearly Event
URL:https://innocom-yearly-event.events.co.il/home
BEGIN:VALARM
ACTION:DISPLAY
TRIGGER:-P1D
DESCRIPTION:REMINDER
SUMMARY:Innocom Yearly Event מחר בשעה 08:00!
END:VALARM
END:VEVENT
END:VCALENDAR
