BEGIN:VCALENDAR

PRODID:icalendar-ruby
CALSCALE:GREGORIAN
METHOD:REQUEST
BEGIN:VEVENT
DTSTAMP:20211018T104251Z
UID:a9b31363-6fe3-430e-b3cb-d7e396abd1d2
DTSTART:20180614T060000Z
DTEND:20180614T110000Z
DESCRIPTION:\n\nJuniper Technology Club is a series of technology semi
 nars\, delivered from engineers to engineers\n\nCome to learn about ou
 r recent innovations - no marketing\, only technology! Topics of this 
 upcoming meeting include: campus evolution\, branch security\, VMware 
 integrated DC solutions\, big data analytics for DC monitoring & secur
 ity\, and more.\n\n\nStay updated on latest changes at the conference 
 website: https://juniper-event-2018.events.co.il/home
LAST-MODIFIED:20200525T145648
LOCATION:Daniel Hotel\, Ramat Yam 60\, Herzliya
ORGANIZER;CN=People & Computers:mailto:events@thepeople.co.il
SUMMARY:Juniper
URL:https://juniper-event-2018.events.co.il/home
BEGIN:VALARM
ACTION:DISPLAY
TRIGGER:-P1D
DESCRIPTION:REMINDER
SUMMARY:Juniper Tomorrow At 09:00!
END:VALARM
END:VEVENT
END:VCALENDAR
