BEGIN:VCALENDAR

PRODID:icalendar-ruby
CALSCALE:GREGORIAN
METHOD:REQUEST
BEGIN:VEVENT
DTSTAMP:20211021T211427Z
UID:20876910-5933-4d54-811f-9dd20137f819
DTSTART:20180628T053000Z
DTEND:20180628T090000Z
DESCRIPTION:\n\nאנו שמחים להזמינך לאירוע Device Day\n\nבשנת 2017 61% מ
 העסקים הקטנים נפגעו מפריצות אבטחה ברשת העיסקית\, אל תיתן לנקודת הקצה ל
 היות החולייה החלשה של העסק שלך.\n\nבמסגרת האירוע נעניק לך ידע וכלים שי
 וכלו לסייע לך בייעול ואבטחת הפעילות העסקית שלך\, נציג בפניך פתרונות בנ
 ושא אבטחת מידע\, פרודוקטיביות וניידות.\n\nבוא לשמוע מהמומחים של מייקרו
 סופט ו HPכל מה שיכול לעזור לך לקדם את העסק שלך\n\n\n\nאנו ממליצים להתע
 דכן באתר מידי פעם ולוודא שהמיקום או תאריך האירוע לא שונה: https://devi
 ce-day.events.co.il/home
LAST-MODIFIED:20200525T145734
LOCATION:סטוקו \, רח' שטרית 2\, ת"א
ORGANIZER;CN=People & Computers:mailto:events@thepeople.co.il
SUMMARY:Device Day -HP & MICROSOFT
URL:https://device-day.events.co.il/home
BEGIN:VALARM
ACTION:DISPLAY
TRIGGER:-P1D
DESCRIPTION:REMINDER
SUMMARY:Device Day -HP & MICROSOFT מחר בשעה 08:30!
END:VALARM
END:VEVENT
END:VCALENDAR
