BEGIN:VCALENDAR
VERSION:2.0
PRODID:icalendar-ruby
CALSCALE:GREGORIAN
METHOD:REQUEST
BEGIN:VEVENT
DTSTAMP:20211021T211444Z
UID:82a999d4-4cbd-4678-998c-e7b2bb19d7b3
DTSTART:20180709T053000Z
DTEND:20180709T093000Z
DESCRIPTION:\n\nנשמח לארח אתכם לארוחת בוקר מפנקת  בה תוכלו לפגוש את  מ
 ומחי NetApp Veeam  וAllTrade ולשמוע  על העדכונים\, החידושים וסיפור לקו
 ח מרתק.\n\n\n\nאנו ממליצים להתעדכן באתר מידי פעם ולוודא שהמיקום או תאר
 יך האירוע לא שונה: https://veeam-netapp-alltrade.events.co.il/home
LAST-MODIFIED:20200525T145731
LOCATION:קריפטון \, הכפר הירוק
ORGANIZER;CN=People & Computers:mailto:events@thepeople.co.il
SUMMARY:VEEAM\, NETAPP & ALLTRADE
URL:https://veeam-netapp-alltrade.events.co.il/home
BEGIN:VALARM
ACTION:DISPLAY
TRIGGER:-P1D
DESCRIPTION:REMINDER
SUMMARY:VEEAM\, NETAPP & ALLTRADE מחר בשעה 08:30!
END:VALARM
END:VEVENT
END:VCALENDAR
