BEGIN:VCALENDAR

PRODID:icalendar-ruby
CALSCALE:GREGORIAN
METHOD:REQUEST
BEGIN:VEVENT
DTSTAMP:20211021T211449Z
UID:3f90f078-2fc6-452a-ac75-4e14ed3e4572
DTSTART:20180715T050000Z
DTEND:20180715T093000Z
DESCRIPTION:\n\nאירוע חשיפת מדד ה- IT היוקרתי לשנת 2017-2018\n\nהמחקר 
 המקיף ביותר שנערך בפעם השנייה בקרב מאותCIO בישראל\, על ידי פירמת הייעו
 ץ העסקי\n\nוראיית החשבון BDO ואנשים ומחשבים\n\n\nאנו ממליצים להתעדכן ב
 אתר מידי פעם ולוודא שהמיקום או תאריך האירוע לא שונה: https://top-star-
 2018.events.co.il/home
LAST-MODIFIED:20210630T150143
LOCATION:מנחם בגין 48\, ת"א
ORGANIZER;CN=People & Computers:mailto:events@thepeople.co.il
SUMMARY:IT TOP STARS 2018
URL:https://top-star-2018.events.co.il/home
BEGIN:VALARM
ACTION:DISPLAY
TRIGGER:-P1D
DESCRIPTION:REMINDER
SUMMARY:IT TOP STARS 2018 מחר בשעה 08:00!
END:VALARM
END:VEVENT
END:VCALENDAR
