BEGIN:VCALENDAR
VERSION:2.0
PRODID:icalendar-ruby
CALSCALE:GREGORIAN
METHOD:REQUEST
BEGIN:VEVENT
DTSTAMP:20211018T104224Z
UID:d17788d3-885e-4f87-bf0f-c14e91fb5de7
DTSTART:20180618T050000Z
DTEND:20180618T110000Z
DESCRIPTION:\n\nSAVE THE DATE - June 18\, 2018\n\nDell EMC Forum is no
 w Dell Technologies Forum.\n\nSee\, touch and discover the Dell Techno
 logies connected ecosystem of IT infrastructure\, applications\, devic
 es and security that enable real transformation.\n\nDiscover emerging 
 trends\, get hands on with the latest technology and meet up with the 
 experts who make it all happen.\n\nPlease Save the Date in your calend
 ar and register now.\n\nMake it Real! Attend the Dell Technologies For
 um in Tel Aviv on June 18.\n\nWe look forward to welcoming you.\n\n\nS
 tay updated on latest changes at the conference website: https://dell-
 technologies-forum.events.co.il/home
LAST-MODIFIED:20200525T145742
LOCATION:Tel Aviv Convention Center 
ORGANIZER;CN=People & Computers:mailto:events@thepeople.co.il
SUMMARY:Dell Technologies Forum - Make It Real
URL:https://dell-technologies-forum.events.co.il/home
BEGIN:VALARM
ACTION:DISPLAY
TRIGGER:-P1D
DESCRIPTION:REMINDER
SUMMARY:Dell Technologies Forum - Make It Real Tomorrow At 08:00!
END:VALARM
END:VEVENT
END:VCALENDAR
