BEGIN:VCALENDAR

PRODID:icalendar-ruby
CALSCALE:GREGORIAN
METHOD:REQUEST
BEGIN:VEVENT
DTSTAMP:20211018T104246Z
UID:14f0ae59-a280-43e6-a0a4-ca8086b6f7e7
DTSTART:20180614T050000Z
DTEND:20180614T120000Z
DESCRIPTION:\n\nהצטרפו אלינו וגלו את האמת כיצד להתכונן ולהגיב למתקפות 
 הסייבר המתרחשות סביבנו\n\nהסיכון מעולם לא היה גדול יותר\, כנופיות פשע 
 קיברנטי בשיתוף טרוריסטים בחסות מדינות.\n\nמאבקים גאו-פוליטיים עוברים מ
 זירת הקרב בשדה המערכה לתשתיות הטכנולוגיות של חברות ומדינות ברחבי אירופ
 ה.\n\nהיכולת\, להעריך את הסיכוןולמצב את ההערכות הראויה נחשבת לשיקול הא
 בטחה החשוב ביותר העומד בפני ארגונים כיום.\n\nאנו מזמינים אתכם להצטרף א
 לינו לאירועFireEye Cyber Defense 2018 וללמוד כיצד אנו מסייעים ללקוחותי
 נו למנוע ולהגיב לתוקפים ע"י שילוב ייחודי של ניסיון בחזית הקרב\, מודיעי
 ן מקיף ומדויק וטכנולוגיה מובילה.\n\n\nStay updated on latest changes a
 t the conference website: https://fire-eye.events.co.il/home
LAST-MODIFIED:20210713T091632
LOCATION:Dan Accadia Hotel\, Ramat Yam 122 Street\, Herzliya
ORGANIZER;CN=People & Computers:mailto:events@thepeople.co.il
SUMMARY:FireEye: Built To Protect 
URL:https://fire-eye.events.co.il/home
BEGIN:VALARM
ACTION:DISPLAY
TRIGGER:-P1D
DESCRIPTION:REMINDER
SUMMARY:FireEye: Built To Protect  Tomorrow At 08:00!
END:VALARM
END:VEVENT
END:VCALENDAR
