BEGIN:VCALENDAR
VERSION:2.0
PRODID:icalendar-ruby
CALSCALE:GREGORIAN
METHOD:REQUEST
BEGIN:VEVENT
DTSTAMP:20211018T104234Z
UID:c0358790-aa19-439d-8417-0016182dfdff
DTSTART:20180627T050000Z
DTEND:20180627T110000Z
DESCRIPTION:\n\nועידת ERP‏ 2018\n\nה- ERP עובר לקדמת הבמה\n\nבשנים האח
 רונות אנו עדים לתופעה שבה מערכות ה- ERP יוצאות מאזור הנוחות בו הן טיפל
 ו בעולמות הפיננסיים והלוגיסטיים המסורתיים ונותנות פתרונות לעולמות היחו
 דיים לכל חברה וחברה. מרבית הסםרים מציעים פתרונות המציבים את מערכות ה- 
 ERP בחזית החברה ובקשר עם הלקוחות. הן באמצעות פתרונות e-Commerce\, פורט
 ל ספקים והן באמצעות פתרונות IOT.\n\nבכנס ERP נעסוק גם בוורטיקלים הייחו
 דים במערכות ה- ERP השונות\, הנותנים מענה ספציפי ויחודי לחברות שונות בע
 ולם הפעילות שלהן: נדל"ן\, פרויקטים\, אנרגיה\, ריטייל.\n\nקהל היעד: מנה
 לי מערכות מידע בארגונים עסקיים\, מנהלי כספים\, מנהלי תפעול\, בעלי תפקי
 דים בכירים בארגונים\, מנכ"לי חברות\, יצרני פתרונות\, יועצים ומנהלי פרו
 יקטים.\n\nבמקביל לכנס תתקיים תערוכת תצוגות של החברות המובילות המספקות 
 פתרונות ERP וכן תתקיים זירת סטארטאפים.\n\n\nאנו ממליצים להתעדכן באתר מ
 ידי פעם ולוודא שהמיקום או תאריך האירוע לא שונה: https://erp-event.even
 ts.co.il/home
LAST-MODIFIED:20211012T172940
LOCATION:LAGO\, רחוב המאה ועשרים 6\, ראשון לציון 
ORGANIZER;CN=People & Computers:mailto:events@thepeople.co.il
SUMMARY:ERP
URL:https://erp-event.events.co.il/home
BEGIN:VALARM
ACTION:DISPLAY
TRIGGER:-P1D
DESCRIPTION:REMINDER
SUMMARY:ERP מחר בשעה 08:00!
END:VALARM
END:VEVENT
END:VCALENDAR
