BEGIN:VCALENDAR
VERSION:2.0
PRODID:icalendar-ruby
CALSCALE:GREGORIAN
METHOD:REQUEST
BEGIN:VEVENT
DTSTAMP:20210604T074516Z
UID:7243e7c5-03f7-4f9d-8123-c6f77cfa72f2
DTSTART:20180627T050000Z
DTEND:20180627T110000Z
DESCRIPTION:\n\nבואו לתרום וללמוד בכנס שמוקדש כולו למידע\n\n" BI וה-Bi
 g Dataה ארגונים רבים עדיין לא מימשו את הפוטנציאל שבעולמות "\n\nעל הארג
 וניםלעבור מהבינה העסקית המסורתית שעסקה בניתוח העבר והדיווח  לזה של העת
 יד והחיזוי\n\nנדרש שינוי כדי שה-BI יסייע למהפך אותו ארגונים נדרשים לער
 וך\, "השינוי הוא לא רק טכנולוגי\, אלא גם תפיסתי. האתגר הניצב בפני ארגו
 נים הוא איך להגיע למקום של BI & Analytics\, כך שהם יוכלו לחדש ללקוחותי
 הם\, ולהקדים את הארגונים המתחרים בהם". נדרש לעבור מטיפול במידע מהעבר\,
  לעבר העתיד. יש לבחון כיצד ניתן לשלב בו את המגמה החדשה\, של האינטרנט ש
 ל הדברים\, ובכל מקרה\, יש לפעול באופן מושכל וזהיר\n\n\n\n\nאנו ממליצים
  להתעדכן באתר מידי פעם ולוודא שהמיקום או תאריך האירוע לא שונה: https:/
 /bi.events.co.il/home
LAST-MODIFIED:20210531T141448
LOCATION:LAGO\, רחוב המאה ועשרים 6\, ראשון לציון 
ORGANIZER;CN=People & Computers:mailto:events@thepeople.co.il
SUMMARY:BIG-DATA-BI
URL:https://bi.events.co.il/home
BEGIN:VALARM
ACTION:DISPLAY
TRIGGER:-P1D
DESCRIPTION:REMINDER
SUMMARY:BIG-DATA-BI מחר בשעה 08:00!
END:VALARM
END:VEVENT
END:VCALENDAR
