BEGIN:VCALENDAR
VERSION:2.0
PRODID:icalendar-ruby
CALSCALE:GREGORIAN
METHOD:REQUEST
BEGIN:VEVENT
DTSTAMP:20211020T025635Z
UID:693ec280-d5de-4a59-82d4-7b92bdf7194c
DTSTART:20180102T070000Z
DTEND:20180102T100000Z
DESCRIPTION:\n\nפורום מנהלי טכנולוגיות המידע הראשיים המובילים בעולם ה-
  IT\n\n.\n\n\nאנו ממליצים להתעדכן באתר מידי פעם ולוודא שהמיקום או תארי
 ך האירוע לא שונה: https://cto-2017-7.events.co.il/home
LAST-MODIFIED:20210713T091626
LOCATION:בית פלאפון\, דרך השלום\, פינת יצחק רבין\, גבעתיים
ORGANIZER;CN=People & Computers:mailto:events@thepeople.co.il
SUMMARY:תשתיות\, טכנולוגיה\, חידושים בעולם הסלולארי
URL:https://cto-2017-7.events.co.il/home
BEGIN:VALARM
ACTION:DISPLAY
TRIGGER:-P1D
DESCRIPTION:REMINDER
SUMMARY:תשתיות\, טכנולוגיה\, חידושים בעולם הסלולארי מחר בשעה 09:00!
END:VALARM
END:VEVENT
END:VCALENDAR
